BEGIN:VCALENDAR
VERSION:2.0
PRODID:-//Agent Ong Open - ECPv6.15.17.1//NONSGML v1.0//EN
CALSCALE:GREGORIAN
METHOD:PUBLISH
X-WR-CALNAME:Agent Ong Open
X-ORIGINAL-URL:https://agentongopen.com
X-WR-CALDESC:Events for Agent Ong Open
REFRESH-INTERVAL;VALUE=DURATION:PT1H
X-Robots-Tag:noindex
X-PUBLISHED-TTL:PT1H
BEGIN:VTIMEZONE
TZID:America/Denver
BEGIN:DAYLIGHT
TZOFFSETFROM:-0700
TZOFFSETTO:-0600
TZNAME:MDT
DTSTART:20250309T090000
END:DAYLIGHT
BEGIN:STANDARD
TZOFFSETFROM:-0600
TZOFFSETTO:-0700
TZNAME:MST
DTSTART:20251102T080000
END:STANDARD
BEGIN:DAYLIGHT
TZOFFSETFROM:-0700
TZOFFSETTO:-0600
TZNAME:MDT
DTSTART:20260308T090000
END:DAYLIGHT
BEGIN:STANDARD
TZOFFSETFROM:-0600
TZOFFSETTO:-0700
TZNAME:MST
DTSTART:20261101T080000
END:STANDARD
BEGIN:DAYLIGHT
TZOFFSETFROM:-0700
TZOFFSETTO:-0600
TZNAME:MDT
DTSTART:20270314T090000
END:DAYLIGHT
BEGIN:STANDARD
TZOFFSETFROM:-0600
TZOFFSETTO:-0700
TZNAME:MST
DTSTART:20271107T080000
END:STANDARD
END:VTIMEZONE
BEGIN:VTIMEZONE
TZID:UTC
BEGIN:STANDARD
TZOFFSETFROM:+0000
TZOFFSETTO:+0000
TZNAME:UTC
DTSTART:20250101T000000
END:STANDARD
END:VTIMEZONE
BEGIN:VEVENT
DTSTART;VALUE=DATE:20260619
DTEND;VALUE=DATE:20260622
DTSTAMP:20260423T124206
CREATED:20240723T000945Z
LAST-MODIFIED:20260118T045337Z
UID:1420-1781827200-1782086399@agentongopen.com
SUMMARY:5th Annual Cactus Classic
DESCRIPTION:🌵 5th Annual $10\,000 to Win CBE Cactus Classic\nEvent #1 of the Southwest Swing Points Race \nThe Cactus Classic returns for its 5th annual running and once again sets the tone for the entire season. With $10\,000 to first place and a proven competitive format\, the CBE Cactus Classic is where the Southwest Swing officially begins and where early momentum in the points race is built. \nThe event features four qualifying squads with an entry fee of $280 and a re-entry fee of $175. A $100 Desperado squad will be available for those looking to bowl their way into the finals at the last opportunity. \nAdvancement to Sunday’s finals is structured to reward both squad performance and overall consistency. The top two players from each qualifying squad will advance directly to the finals\, earning seeds one through eight and receiving a one-round bye. The next fourteen highest overall finishers\, who did not place in the top two of their squad\, will advance as seeds nine through twenty-two. The final two spots in the 24-player bracket will be filled by the top two finishers from the Desperado\, who will be seeded twenty-three and twenty-four. \nAs Event #1 of the Southwest Swing Points Race\, every game bowled at the Cactus Classic carries added significance. A strong performance here can establish an early advantage and shape the rest of the season heading into the remaining Swing events. \nFull tournament details can be found on the official flyer in the event discussion section. A $100 deposit is required to secure your entry. For questions or to sign up\, contact Theo Douthit at theo.cbedirector@outlook.com.
URL:https://agentongopen.com/event/5th-annual-cactus-classic/
LOCATION:Lakeview Lanes\, 10502 W Thunderbird Blvd\, Sun City\, AZ\, 85351\, United States
CATEGORIES:Cat 1
ATTACH;FMTTYPE=image/png:https://agentongopen.com/wp-content/uploads/2024/07/Cactus-Classic-Event.png
ORGANIZER;CN="Agent Ong Open":MAILTO:carl@agentongopen.com
END:VEVENT
BEGIN:VEVENT
DTSTART;VALUE=DATE:20260725
DTEND;VALUE=DATE:20260727
DTSTAMP:20260423T124206
CREATED:20260113T205718Z
LAST-MODIFIED:20260118T045550Z
UID:2494-1784937600-1785110399@agentongopen.com
SUMMARY:Inaugural Desert Heat Doubles
DESCRIPTION:🏆 DESERT HEAT DOUBLES – QUICK HIGHLIGHTS 🏆 \nThe Inaugural Desert Heat Doubles is officially open and will serve as Event #2 of the Southwest Swing Points Race\, and a Southwest Swing “Premier” Event\, presented by Complete Bowling Events & The Agent Ong Open. \n• Dates: July 25–26\, 2026• Location: Lakeview Lanes | Sun City\, AZ• Format: Open scratch doubles – no restrictions\, no handicap• Prize Fund: $10\,000 Guaranteed First Place• Qualifying: Six games• Finals: Top 16 teams advance to Match Play• Field Size: Limited to 36 teams per squad | 108 teams max• Entry Fees:– First Entry: $500 per team– Re-Entry: $300 per team• Cash Ratio: 1:5 Unique Entries | 1:8 Re-Entries \n• Teams must remain intact for the entire event• No substitutions permitted• If a player is injured\, that team’s entry is complete• Non-injured player may only form a new team as a new entry with no carryover scores• No substitutions during Sunday Finals \n• Payment in full required to secure your spot• Walk-ins not guaranteed• Limited space• Credit card payment link coming soon \n📩 To Register:Carl Ong | carl@agentongopen.comTheo Douthit | theo.cbedirector@outlook.com \n🔥 High stakes. Open competition. Limited field.This is Desert Heat Doubles.
URL:https://agentongopen.com/event/inaugural-desert-heat-doubles/
LOCATION:Lakeview Lanes\, 10502 W Thunderbird Blvd\, Sun City\, AZ\, 85351\, United States
CATEGORIES:Cat 2
ATTACH;FMTTYPE=image/png:https://agentongopen.com/wp-content/uploads/2026/01/Desert-Heat-Event.png
END:VEVENT
BEGIN:VEVENT
DTSTART;VALUE=DATE:20261015
DTEND;VALUE=DATE:20261019
DTSTAMP:20260423T124206
CREATED:20240722T234820Z
LAST-MODIFIED:20260118T044255Z
UID:1408-1792022400-1792367999@agentongopen.com
SUMMARY:Agent Ong Open IV - All In
DESCRIPTION:Agent Ong Open IV – All In | Event Highlights\nThe Agent Ong Open IV – All In is the most ambitious edition of the tournament to date. Taking place October 15–18\, 2026 at the South Point Bowling Plaza in Las Vegas\, this premier event brings together elite amateur competitors\, touring professionals\, and international bowlers for a true championship-level experience. \nThis year’s event features a $10\,000 Guaranteed First Place prize\, four individual sweepers each paying $1\,000 guaranteed to win\, and full-scale competition including brackets\, high game\, and Criss Cross Doubles on every squad. The return of Friday Night Action Matches continues to be one of the event’s signature attractions. \nAdding to the excitement is the RvR Progressive Pot\, currently sitting at $5\,000 and growing\, creating additional high-stakes opportunity throughout the event. The Agent Ong Open IV also serves as the finale of the Southwest Swing Points Race\, recognizing season-long excellence and consistency across the series. \nThe tournament is proud to welcome Hammer as its newest partner and the Official Ball Company of the Agent Ong Open IV\, marking an important step forward as the event continues to evolve. \nSupported by the William and Florence Ong Memorial Scholarship\, the tournament remains committed to giving back and investing in the future of the sport. \nBuilt by bowlers. For bowlers.All In is more than a theme—it’s a commitment.
URL:https://agentongopen.com/event/agent-ong-open-iv-all-in/
LOCATION:South Point Plaza Hotel Casino & Spa\, 9777 Las Vegas Blvd S\, Las Vegas\, NV\, 89183\, United States
CATEGORIES:Cat 3
ATTACH;FMTTYPE=image/jpeg:https://agentongopen.com/wp-content/uploads/2026/01/d641d5ab-7e02-470f-8215-43bd7548eab9.jpeg
ORGANIZER;CN="Agent Ong Open":MAILTO:carl@agentongopen.com
END:VEVENT
END:VCALENDAR